BEGIN:VCALENDAR
VERSION:2.0
PRODID:-//ChamberMaster//Event Calendar 2.0//EN
METHOD:PUBLISH
X-PUBLISHED-TTL:P3D
REFRESH-INTERVAL:P3D
CALSCALE:GREGORIAN
BEGIN:VEVENT
DTSTART:20241109T020000Z
DTEND:20241109T050000Z
X-MICROSOFT-CDO-ALLDAYEVENT:FALSE
SUMMARY:SHCC Latin Flair Gala
DESCRIPTION:You're Invited to the Solano Hispanic Chamber of Commerce's Latin Flair Gala!   \n\n \n\nJoin us for an unforgettable evening of celebration\, culture\, and community at our Latin Flair Gala!   \n\n \n\n  Date: November 8th\, 2024\n\n  Time: 6:00 PM - 9:00 PM\n\n  Location: Suisun Veterans Memorial Building in Suisun Ciity\n\n  Theme: Caribbean Vibes  \n\n  Dress Code: Festive\n\n \n\nThis gala is more than just a night of dancing and delicious food. We will be honoring outstanding individuals with scholarship awards\, business awards\, and installing our new Board of Directors!   \n\n \n\n  Let's dance the night away\, support our local talent\, and celebrate the future of our community!  \n\n\n\n  Exciting Live & Silent Auctions! Bid on incredible items and experiences while supporting the Solano Hispanic Chamber's mission. Don't miss your chance to win something special!\n\n \n\n  Sponsorship Opportunities: Want to put your business in front of Solano's best and brightest? We're now accepting sponsorships! Support the event and gain valuable visibility in front of a thriving community of business leaders and influencers.\n\n \n\n   Tickets are limited Don't miss out! Secure yours now before they're gone!\n\n\n\nSPA\n\n\n\n    Est s invitado a la Gala Latin Flair de la C mara de Comercio Hispana de Solano!   \n\n\n\n  nete a nosotros para una noche inolvidable de celebraci n\, cultura y comunidad en nuestra Gala Estilo Latino!   \n\n\n\n  Fecha: 8 de noviembre de 2024\n\n  Hora: 6:00 p. m. a 9:00 p. m.\n\n  Ubicaci n: Suisun Veterans Memorial Building en la ciudad de Suisun\n\n  Tema: Vibraciones caribe as  \n\n  C digo de vestimenta: festivo\n\n\n\nEsta gala es m s que una noche de baile y comida deliciosa. Honraremos a personas destacadas con becas\, premios de negocios peque os e instalaremos nuestra nueva Junta Directiva.   \n\n\n\n   Bailemos toda la noche\, apoyemos nuestro talento local y celebremos el futuro de nuestra comunidad!  \n\n\n\n   Emocionantes subastas en vivo y silenciosas! Oferte por art culos y experiencias incre bles mientras apoya la misi n de la C mara Hispana de Solano.  No pierda la oportunidad de ganar algo especial!\n\n\n\n  Oportunidades de patrocinio:  Quieres que tu negocio est  al alcance de los m s destacados de Solano?  Estamos aceptando patrocinios! Apoya el evento y obt n una valiosa visibilidad frente a una comunidad pr spera de l deres empresariales e influyentes.\n\n\n\n   Las entradas son limitadas.  No te las pierdas!  Asegura la tuya ahora antes de que se acaben!
X-ALT-DESC;FMTTYPE=text/html:<p class="p1" color:="" helvetica="" style="margin: 0px\; font-variant-numeric: normal\; font-variant-east-asian: normal\; font-variant-alternates: normal\; font-size-adjust: none\; font-kerning: auto\; font-optical-sizing: auto\; font-feature-settings: normal\; font-variation-settings: normal\; font-variant-position: normal\; font-stretch: normal\; line-height: normal\; font-family: ">&#127775\;&#10024\; <b>You&rsquo\;re Invited to the Solano Hispanic Chamber of Commerce&rsquo\;s Latin Flair Gala!</b> &#10024\;&#127775\;<br />\n&nbsp\;</p>\n\n<p class="p1" color:="" helvetica="" style="margin: 0px\; font-variant-numeric: normal\; font-variant-east-asian: normal\; font-variant-alternates: normal\; font-size-adjust: none\; font-kerning: auto\; font-optical-sizing: auto\; font-feature-settings: normal\; font-variation-settings: normal\; font-variant-position: normal\; font-stretch: normal\; line-height: normal\; font-family: ">Join us for an unforgettable evening of celebration\, culture\, and community at our <b>Latin Flair Gala</b>! &#127881\;&#10024\;<br />\n&nbsp\;</p>\n\n<p class="p1" color:="" helvetica="" style="margin: 0px\; font-variant-numeric: normal\; font-variant-east-asian: normal\; font-variant-alternates: normal\; font-size-adjust: none\; font-kerning: auto\; font-optical-sizing: auto\; font-feature-settings: normal\; font-variation-settings: normal\; font-variant-position: normal\; font-stretch: normal\; line-height: normal\; font-family: ">&#128197\; <b>Date:</b> November 8th\, 2024<br />\n&#128341\; <b>Time:</b> 6:00 PM - 9:00 PM<br />\n&#128205\; <b>Location:</b> Suisun Veterans Memorial Building in Suisun Ciity<br />\n&#127881\; <b>Theme:</b> Caribbean Vibes &#127796\;<br />\n&#128087\; <b>Dress Code:</b> Festive<br />\n&nbsp\;</p>\n\n<p class="p1" color:="" helvetica="" style="margin: 0px\; font-variant-numeric: normal\; font-variant-east-asian: normal\; font-variant-alternates: normal\; font-size-adjust: none\; font-kerning: auto\; font-optical-sizing: auto\; font-feature-settings: normal\; font-variation-settings: normal\; font-variant-position: normal\; font-stretch: normal\; line-height: normal\; font-family: ">This gala is more than just a night of dancing and delicious food. We will be honoring outstanding individuals with <b>scholarship awards</b>\, <b>business awards</b>\, and installing our <b>new Board of Directors</b>! &#127891\;&#127942\;<br />\n&nbsp\;</p>\n\n<p class="p1" color:="" helvetica="" style="margin: 0px\; font-variant-numeric: normal\; font-variant-east-asian: normal\; font-variant-alternates: normal\; font-size-adjust: none\; font-kerning: auto\; font-optical-sizing: auto\; font-feature-settings: normal\; font-variation-settings: normal\; font-variant-position: normal\; font-stretch: normal\; line-height: normal\; font-family: ">&#128131\; <b>Let&rsquo\;s dance the night away\, support our local talent\, and celebrate the future of our community!</b> &#128378\;<br />\n<br />\n&#128226\;&nbsp\;<strong>Exciting Live &amp\; Silent Auctions!</strong>&nbsp\;Bid on incredible items and experiences while supporting the Solano Hispanic Chamber&rsquo\;s mission. Don&rsquo\;t miss your chance to win something special!<br />\n&nbsp\;</p>\n\n<p class="p1" color:="" helvetica="" style="margin: 0px\; font-variant-numeric: normal\; font-variant-east-asian: normal\; font-variant-alternates: normal\; font-size-adjust: none\; font-kerning: auto\; font-optical-sizing: auto\; font-feature-settings: normal\; font-variation-settings: normal\; font-variant-position: normal\; font-stretch: normal\; line-height: normal\; font-family: ">&#128293\; <b>Sponsorship Opportunities</b>: Want to put your business in front of Solano&rsquo\;s best and brightest? We&rsquo\;re now accepting <b>sponsorships</b>! Support the event and gain valuable visibility in front of a thriving community of business leaders and influencers.<br />\n&nbsp\;</p>\n\n<p class="p1" color:="" helvetica="" style="margin: 0px\; font-variant-numeric: normal\; font-variant-east-asian: normal\; font-variant-alternates: normal\; font-size-adjust: none\; font-kerning: auto\; font-optical-sizing: auto\; font-feature-settings: normal\; font-variation-settings: normal\; font-variant-position: normal\; font-stretch: normal\; line-height: normal\; font-family: ">&#127903\;&#65039\; <b>Tickets are limited&mdash\;Don&rsquo\;t miss out!</b> Secure yours now before they&rsquo\;re gone!<br />\n<br />\n<strong>SPA</strong><br />\n<br />\n&#127775\;&#10024\; <strong>&iexcl\;Est&aacute\;s invitado a la Gala Latin Flair de la C&aacute\;mara de Comercio Hispana de Solano!</strong> &#10024\;&#127775\;<br />\n<br />\n&iexcl\;&Uacute\;nete a nosotros para una noche inolvidable de celebraci&oacute\;n\, cultura y comunidad en nuestra Gala Estilo Latino! &#127881\;&#10024\;<br />\n<br />\n&#128197\; <strong>Fecha</strong>: 8 de noviembre de 2024<br />\n&#128341\; <strong>Hora</strong>: 6:00 p. m. a 9:00 p. m.<br />\n&#128205\; <strong>Ubicaci&oacute\;n</strong>: Suisun Veterans Memorial Building en la ciudad de Suisun<br />\n&#127881\; <strong>Tema</strong>: Vibraciones caribe&ntilde\;as &#127796\;<br />\n&#128087\; <strong>C&oacute\;digo de vestimenta</strong>: festivo<br />\n<br />\nEsta gala es m&aacute\;s que una noche de baile y comida deliciosa. Honraremos a personas destacadas con becas\, <strong>premios de negocios peque&ntilde\;os</strong>&nbsp\;e instalaremos nuestra <strong>nueva Junta Directiva</strong>. &#127891\;&#127942\;<br />\n<br />\n&#128131\; <strong>&iexcl\;Bailemos toda la noche\, apoyemos nuestro talento local y celebremos el futuro de nuestra comunidad! </strong>&#128378\;<br />\n<br />\n&#128226\; <strong>&iexcl\;Emocionantes subastas en vivo y silenciosas!</strong> Oferte por art&iacute\;culos y experiencias incre&iacute\;bles mientras apoya la misi&oacute\;n de la C&aacute\;mara Hispana de Solano. &iexcl\;No pierda la oportunidad de ganar algo especial!<br />\n<br />\n&#128293\; <strong>Oportunidades de patrocinio</strong>: &iquest\;Quieres que tu negocio est&eacute\; al alcance de los m&aacute\;s destacados de Solano? &iexcl\;Estamos aceptando patrocinios! Apoya el evento y obt&eacute\;n una valiosa visibilidad frente a una comunidad pr&oacute\;spera de l&iacute\;deres empresariales e influyentes.<br />\n<br />\n&#127903\;&#65039\; <strong>Las entradas son limitadas</strong>. &iexcl\;No te las pierdas! &iexcl\;Asegura la tuya ahora antes de que se acaben!</p>\n
LOCATION:
UID:e.3442.982
SEQUENCE:3
DTSTAMP:20260422T095053Z
URL:https://business.solanohcc.com/events/details/shcc-latin-flair-gala-982
END:VEVENT

END:VCALENDAR
