BEGIN:VCALENDAR
VERSION:2.0
PRODID:-//ChamberMaster//Event Calendar 2.0//EN
METHOD:PUBLISH
X-PUBLISHED-TTL:P3D
REFRESH-INTERVAL:P3D
CALSCALE:GREGORIAN
BEGIN:VEVENT
DTSTART:20241213T010000Z
DTEND:20241213T033000Z
X-MICROSOFT-CDO-ALLDAYEVENT:FALSE
SUMMARY:Rep It Out Ribbon Cutting and Mixer
DESCRIPTION:Join Us for a Ribbon Cutting\, Grand Opening\, and Mixer!  \n\nWe're thrilled to invite you to celebrate the Grand Opening of Rep It Out with a special Ribbon Cutting Ceremony and Mixer! Let's come together as a community to support this amazing new business.\n\n  Date: Thursday\, December 12\n\n  Time: Ribbon Cutting at 5:00 PM | Mixer at 5:30 PM\n\n  Location: 1039 Tennessee St\, Vallejo\, CA 94590\n\nWhat to Expect:\n\n  Celebrate the opening of Rep It Out\n\n  Drinks and delicious food\n\n  Networking and community building\n\n  Toy Drive: Rep It Out is hosting a toy drive to support Watch Me Grow\, a local Vallejo organization dedicated to making a difference for children in need. Bring a toy and help spread holiday cheer!\n\nLet's show our support for Rep It Out and their efforts to give back to the community. See you there!
X-ALT-DESC;FMTTYPE=text/html:<p>&#127881\; <strong>Join Us for a Ribbon Cutting\, Grand Opening\, and Mixer!</strong> &#127881\;</p>\n\n<p>We&rsquo\;re thrilled to invite you to celebrate the <strong>Grand Opening</strong> of <strong>Rep It Out</strong> with a special <strong>Ribbon Cutting Ceremony</strong> and <strong>Mixer</strong>! Let&rsquo\;s come together as a community to support this amazing new business.</p>\n\n<p>&#128197\; <strong>Date:</strong> Thursday\, December 12<br />\n&#9200\; <strong>Time:</strong> Ribbon Cutting at 5:00 PM | Mixer at 5:30 PM<br />\n&#128205\; <strong>Location:</strong> 1039 Tennessee St\, Vallejo\, CA 94590</p>\n\n<p><strong>What to Expect:</strong><br />\n&#10024\; Celebrate the opening of <strong>Rep It Out</strong><br />\n&#10024\; Drinks and delicious food<br />\n&#10024\; Networking and community building<br />\n&#10024\; <strong>Toy Drive</strong>: <strong>Rep It Out</strong> is hosting a toy drive to support <strong>Watch Me Grow</strong>\, a local Vallejo organization dedicated to making a difference for children in need. Bring a toy and help spread holiday cheer!</p>\n\n<p>Let&rsquo\;s show our support for <strong>Rep It Out</strong> and their efforts to give back to the community. See you there!</p>\n
LOCATION:
UID:e.3442.996
SEQUENCE:3
DTSTAMP:20260422T101011Z
URL:https://business.solanohcc.com/events/details/rep-it-out-ribbon-cutting-and-mixer-996
END:VEVENT

END:VCALENDAR
