BEGIN:VCALENDAR
VERSION:2.0
PRODID:-//ChamberMaster//Event Calendar 2.0//EN
METHOD:PUBLISH
X-PUBLISHED-TTL:P3D
REFRESH-INTERVAL:P3D
CALSCALE:GREGORIAN
BEGIN:VEVENT
DTSTART:20241223T010000Z
DTEND:20241223T040000Z
X-MICROSOFT-CDO-ALLDAYEVENT:FALSE
SUMMARY:MY HAPPY PLACE- Christmas Party
DESCRIPTION:You're Invited to My Happy Place Christmas Party!   \n\nGet ready for a night full of holiday cheer\, laughter\, and festive fun! Join us as we celebrate the season together with a memorable Christmas Party.  \n\n  Date: Sunday December 22nd\n\n  Location: My Happy Place\, 321 Texas St\, Suite 102\, \n\nFairfield\, CA 94533\n\n  Schedule of Festivities:\n\n\n	5:00 - 6:00 PM: Photos with Santa    (Bring your best smiles!)\n	6:00 - 7:00 PM: Dinner   (Healthy potluck bring a dish to share!)\n	7:00 - 8:00 PM: Games & White Elephant  \n\n\n  White Elephant Rules:\n\n\n	Bring a unisex gift valued at $30.\n	Get creative avoid gift cards and make it fun!\n\n\nThis is the perfect opportunity to relax\, connect\, and share the holiday spirit with fellow the community. Let's make it a celebration to remember!\n\nRSVP now. We can't wait to celebrate with you!
X-ALT-DESC;FMTTYPE=text/html:<p>&#127876\;&#10024\; <strong>You&rsquo\;re Invited to My Happy Place&nbsp\;Christmas Party!</strong> &#127877\;&#127873\;</p>\n\n<p>Get ready for a night full of holiday cheer\, laughter\, and festive fun! Join us as we celebrate the season together with a memorable Christmas Party. &#127881\;</p>\n\n<p>&#128197\; <strong>Date:</strong> Sunday December 22nd<br />\n&#128205\; <strong>Location:</strong> My Happy Place\, 321 Texas St\, Suite 102\,&nbsp\;<br />\nFairfield\, CA 94533<br />\n&#9200\; <strong>Schedule of Festivities:</strong></p>\n\n<ul>\n	<li><strong>5:00 - 6:00 PM</strong>: Photos with Santa &#127877\;&#128248\; (Bring your best smiles!)</li>\n	<li><strong>6:00 - 7:00 PM</strong>: Dinner &#127869\; (Healthy potluck&mdash\;bring a dish to share!)</li>\n	<li><strong>7:00 - 8:00 PM</strong>: Games &amp\; White Elephant &#127873\;</li>\n</ul>\n\n<p>&#127873\; <strong>White Elephant Rules:</strong></p>\n\n<ul>\n	<li>Bring a unisex gift valued at $30.</li>\n	<li>Get creative&mdash\;avoid gift cards and make it fun!</li>\n</ul>\n\n<p>This is the perfect opportunity to relax\, connect\, and share the holiday spirit with fellow the community. Let&rsquo\;s make it a celebration to remember!</p>\n\n<p>RSVP now. We can&rsquo\;t wait to celebrate with you! &#127881\;</p>\n
LOCATION:
UID:e.3442.1000
SEQUENCE:3
DTSTAMP:20260422T100632Z
URL:https://business.solanohcc.com/events/details/my-happy-place-christmas-party-1000
END:VEVENT

END:VCALENDAR
