BEGIN:VCALENDAR
VERSION:2.0
PRODID:-//ChamberMaster//Event Calendar 2.0//EN
METHOD:PUBLISH
X-PUBLISHED-TTL:P3D
REFRESH-INTERVAL:P3D
CALSCALE:GREGORIAN
BEGIN:VEVENT
DTSTART:20260522T003000Z
DTEND:20260522T020000Z
X-MICROSOFT-CDO-ALLDAYEVENT:FALSE
SUMMARY:Mixer at Medic Ambulance
DESCRIPTION:Kick off your Memorial Day weekend with us! Join us for our May Mixer and connect with local professionals and community members while enjoying great food\, drinks\, and meaningful conversations.\n\n  Thursday\, May 21\, 2026\n\n  5:30 PM\n\n  506 Couch St\, Vallejo\, CA 94590\n\n  Bonus: Bring a raffle item for a chance to showcase your business!\n\n  Register now and don't forget your business cards we can't wait to see you there!\n\n (Espa ol)\n\n   Comienza tu fin de semana de Memorial Day con nosotros! Acomp  anos a nuestro Mixer de Mayo y conecta con profesionales y miembros de la comunidad mientras disfrutas de buena comida\, bebidas y grandes conexiones.\n\n  Jueves 21 de mayo de 2026\n\n  5:30 PM\n\n  506 Couch St\, Vallejo\, CA 94590\n\n  Extra: Trae un art culo para la rifa y promociona tu negocio.\n\n  Reg strate hoy y no olvides tus tarjetas de presentaci n  te esperamos!
X-ALT-DESC;FMTTYPE=text/html:<p data-end="1124" data-start="922">&#127881\; Kick off your Memorial Day weekend with us! Join us for our <strong data-end="998" data-start="985">May Mixer</strong> and connect with local professionals and community members while enjoying great food\, drinks\, and meaningful conversations.</p>\n\n<p data-end="1214" data-start="1126">&#128197\; <strong data-end="1155" data-start="1129">Thursday\, May 21\, 2026</strong><br data-end="1158" data-start="1155" />\n&#9200\; <strong data-end="1171" data-start="1160">5:30 PM</strong><br data-end="1174" data-start="1171" />\n&#128205\; <strong data-end="1212" data-start="1177">506 Couch St\, Vallejo\, CA 94590</strong></p>\n\n<p data-end="1375" data-start="1216">&#10024\; <strong data-end="1228" data-start="1218">Bonus:</strong> Bring a raffle item for a chance to showcase your business!<br data-end="1291" data-start="1288" />\n&#128073\; Register now and don&rsquo\;t forget your business cards&mdash\;we can&rsquo\;t wait to see you there!</p>\n\n<h2 data-end="1418" data-section-id="burhxy" data-start="1382"><span role="text"><strong data-end="1416" data-start="1385">&nbsp\;(Espa&ntilde\;ol)</strong></span></h2>\n\n<p data-end="1641" data-start="1419">&#127881\; &iexcl\;Comienza tu fin de semana de Memorial Day con nosotros! Acomp&aacute\;&ntilde\;anos a nuestro <strong data-end="1518" data-start="1501">Mixer de Mayo</strong> y conecta con profesionales y miembros de la comunidad mientras disfrutas de buena comida\, bebidas y grandes conexiones.</p>\n\n<p data-end="1734" data-start="1643">&#128197\; <strong data-end="1675" data-start="1646">Jueves 21 de mayo de 2026</strong><br data-end="1678" data-start="1675" />\n&#9200\; <strong data-end="1691" data-start="1680">5:30 PM</strong><br data-end="1694" data-start="1691" />\n&#128205\; <strong data-end="1732" data-start="1697">506 Couch St\, Vallejo\, CA 94590</strong></p>\n\n<p data-end="1880" data-start="1736">&#10024\; <strong data-end="1748" data-start="1738">Extra:</strong> Trae un art&iacute\;culo para la rifa y promociona tu negocio.<br data-end="1806" data-start="1803" />\n&#128073\; Reg&iacute\;strate hoy y no olvides tus tarjetas de presentaci&oacute\;n&mdash\;&iexcl\;te esperamos!</p>\n
LOCATION:
UID:e.3442.1395
SEQUENCE:3
DTSTAMP:20260423T001457Z
URL:https://business.solanohcc.com/events/details/mixer-at-medic-ambulance-1395
END:VEVENT

END:VCALENDAR
