BEGIN:VCALENDAR
VERSION:2.0
PRODID:-//ChamberMaster//Event Calendar 2.0//EN
METHOD:PUBLISH
X-PUBLISHED-TTL:P3D
REFRESH-INTERVAL:P3D
CALSCALE:GREGORIAN
BEGIN:VEVENT
DTSTART:20260617T183000Z
DTEND:20260617T200000Z
X-MICROSOFT-CDO-ALLDAYEVENT:FALSE
SUMMARY:Join Us for the 2026 Scholarship Luncheon
DESCRIPTION:Join us for a meaningful afternoon celebrating the next generation of leaders at our 2026 Scholarship Luncheon   \n\nWe'll be recognizing both student and business scholarship recipients who are making an impact in our community.\n\n   Tickets: $60 per person\n\n  Sponsorship opportunities available\n\nSecure your seat today space is limited! Register for the Luncheon here\n\n\n\nSupport the next generation of Solano County leaders by becoming a sponsor of the 2026 Scholarship Luncheon. Sponsorship packages include event visibility\, recognition in promotional materials\, and the opportunity to invest directly in scholarship recipients and chamber programming. Download the sponsorship package to review available levels and benefits.\n\n\n\nDownload Sponsorship Package here\n\n\n\nSHCC is accepting vendor proposals for the 2026 Scholarship Luncheon. Interested vendors are invited to review the RFP for event details\, proposal requirements\, and submission instructions.\n\n\n\nDownload RFP here\n\n\n\nESPA OL\n\n nase a nosotros para una tarde significativa celebrando a la pr xima generaci n de l deres en nuestro Almuerzo de Becas 2026   \n\nEstaremos reconociendo a beneficiarios de becas tanto estudiantes como negocios que est n generando un impacto en nuestra comunidad.\n\n   Boletos: $60 por persona\n\n  Oportunidades de patrocinio disponibles\n\nAsegure su lugar hoy  el espacio es limitado! Reg strese para el almuerzo aqu \n\n\n\nApoye a la pr xima generaci n de l deres del Condado de Solano convirti ndose en patrocinador del Almuerzo de Becas 2026. Los paquetes de patrocinio incluyen visibilidad en el evento\, reconocimiento en materiales promocionales y la oportunidad de invertir directamente en los beneficiarios de las becas y en los programas de la c mara de comercio. Descargue el paquete de patrocinio para consultar los niveles y beneficios disponibles.\n\n\n\nDescargue el paquete de patrocinio aqu \n\n\n\nSHCC est  recibiendo propuestas de proveedores para el Almuerzo de Becas 2026. Los proveedores interesados   pueden consultar la solicitud de propuestas (RFP) para obtener detalles del evento\, requisitos y las instrucciones de env o.\n\n\n\nDescargue la RFP aqu
X-ALT-DESC;FMTTYPE=text/html:<p data-end="376" data-start="258">Join us for a meaningful afternoon celebrating the next generation of leaders at our <strong data-end="372" data-start="343">2026 Scholarship Luncheon</strong> &#127891\;&#10024\;</p>\n\n<p data-end="494" data-start="378">We&rsquo\;ll be recognizing <strong data-end="451" data-start="399">both student and business scholarship recipients</strong> who are making an impact in our community.</p>\n\n<p data-end="566" data-start="496">&#127903\;&#65039\; Tickets: $60 per person<br data-end="526" data-start="523" />\n&#129309\; Sponsorship opportunities available</p>\n\n<p data-end="642" data-start="568">Secure your seat today&mdash\;space is limited!&nbsp\;<a href="https://business.solanohcc.com/events/register/1388">Register for the Luncheon here</a><br />\n<br />\nSupport the next generation of Solano County leaders by becoming a sponsor of the 2026 Scholarship Luncheon. Sponsorship packages include event visibility\, recognition in promotional materials\, and the opportunity to invest directly in scholarship recipients and chamber programming. Download the sponsorship package to review available levels and benefits.<br />\n<br />\n<a href="https://chambermaster.blob.core.windows.net/userfiles/UserFiles/chambers/3442/File/ScholarshipAwardSponsorshipPackages20261.pdf">Download Sponsorship Package&nbsp\;here</a><br />\n<br />\nSHCC is accepting vendor proposals for the 2026 Scholarship Luncheon. Interested vendors are invited to review the RFP for event details\, proposal requirements\, and submission instructions.<br />\n<br />\n<a href="https://chambermaster.blob.core.windows.net/userfiles/UserFiles/chambers/3442/File/ENG_ScholarshipLuncheonRFP1.pdf">Download RFP&nbsp\;here</a><br />\n<br />\n<strong>ESPA&Ntilde\;OL</strong></p>\n\n<p data-end="209" data-start="76">&Uacute\;nase a nosotros para una tarde significativa celebrando a la pr&oacute\;xima generaci&oacute\;n de l&iacute\;deres en nuestro <strong data-end="205" data-start="179">Almuerzo de Becas 2026</strong> &#127891\;&#10024\;</p>\n\n<p data-end="347" data-start="211">Estaremos reconociendo a <strong data-end="294" data-start="236">beneficiarios de becas tanto estudiantes como negocios</strong> que est&aacute\;n generando un impacto en nuestra comunidad.</p>\n\n<p data-end="424" data-start="349">&#127903\;&#65039\; Boletos: $60 por persona<br data-end="380" data-start="377" />\n&#129309\; Oportunidades de patrocinio disponibles</p>\n\n<p data-end="514" data-start="426">Asegure su lugar hoy&mdash\;&iexcl\;el espacio es limitado!&nbsp\;<a href="https://business.solanohcc.com/events/register/1388">Reg&iacute\;strese para el almuerzo aqu&iacute\;</a><br />\n<br />\nApoye a la pr&oacute\;xima generaci&oacute\;n de l&iacute\;deres del Condado de Solano convirti&eacute\;ndose en patrocinador del Almuerzo de Becas 2026. Los paquetes de patrocinio incluyen visibilidad en el evento\, reconocimiento en materiales promocionales y la oportunidad de invertir directamente en los beneficiarios de las becas y en los programas de la c&aacute\;mara de comercio. Descargue el paquete de patrocinio para consultar los niveles y beneficios disponibles.<br />\n<br />\n<a href="https://chambermaster.blob.core.windows.net/userfiles/UserFiles/chambers/3442/File/ScholarshipAwardSponsorshipPackages20261.pdf">Descargue el paquete de patrocinio aqu&iacute\;</a><br />\n<br />\nSHCC est&aacute\; recibiendo propuestas de proveedores para el Almuerzo de Becas 2026. Los proveedores interesados &#8203\;&#8203\;pueden consultar la solicitud de propuestas (RFP) para obtener detalles del evento\, requisitos y las instrucciones de env&iacute\;o.<br />\n<br />\n<a href="https://chambermaster.blob.core.windows.net/userfiles/UserFiles/chambers/3442/File/ENG_ScholarshipLuncheonRFP1.pdf">Descargue la RFP aqu&iacute\;</a></p>\n
LOCATION:400 Suisun Valley Rd\, Fairfield\, CA 94534
UID:e.3442.1388
SEQUENCE:3
DTSTAMP:20260423T074914Z
URL:https://business.solanohcc.com/events/details/join-us-for-the-2026-scholarship-luncheon-1388
END:VEVENT

END:VCALENDAR
