BEGIN:VCALENDAR
VERSION:2.0
PRODID:-//ChamberMaster//Event Calendar 2.0//EN
METHOD:PUBLISH
X-PUBLISHED-TTL:P3D
REFRESH-INTERVAL:P3D
CALSCALE:GREGORIAN
BEGIN:VEVENT
DTSTART:20260711T004500Z
DTEND:20260711T040000Z
X-MICROSOFT-CDO-ALLDAYEVENT:FALSE
SUMMARY:Farm to Table Dinner
DESCRIPTION:This five-course dinner will take place July 10th\, 2026 and includes beer and wine pairings. We are honored to be once again be working with the best Solano County chefs and purveyors to provide a sustainably sourced dinner that highlights local proteins and produce. Please join us!\n\n\n\nFriday\, JULY 10th\, 2026\n\nWelcome Reception | 5:45 - 6:30 p.m.\n\nThe Table Dinner | 6:30 - 8:30 p.m.\n\nDancing | 8:30 - 9:00 p.m.\n\n$175 per person + tax\n\nMust be 21+ with photo ID to attend.\n\nVegetarian and non-dairy options are offered.
X-ALT-DESC;FMTTYPE=text/html:<p>This five-course dinner will take place July 10th\, 2026 and includes beer and wine pairings. We are honored to be once again be working with the best Solano County chefs and purveyors to provide a sustainably sourced dinner that highlights local proteins and produce. Please join us!<br />\n<br />\nFriday\, JULY 10th\, 2026</p>\n\n<p>Welcome Reception | 5:45 - 6:30 p.m.</p>\n\n<p>The Table Dinner | 6:30 - 8:30 p.m.</p>\n\n<p>Dancing | 8:30 - 9:00 p.m.</p>\n\n<p>$175 per person + tax</p>\n\n<p>Must be 21+ with photo ID to attend.</p>\n\n<p>Vegetarian and non-dairy options are offered.</p>\n
LOCATION:Rowland Freedom Center 300 County Airport Road C4 Vacaville\, Ca 95688
UID:e.3442.1362
SEQUENCE:3
DTSTAMP:20260422T084512Z
URL:https://business.solanohcc.com/events/details/farm-to-table-dinner-1362
END:VEVENT

END:VCALENDAR
