BEGIN:VCALENDAR
VERSION:2.0
PRODID:-//ChamberMaster//Event Calendar 2.0//EN
METHOD:PUBLISH
X-PUBLISHED-TTL:P3D
REFRESH-INTERVAL:P3D
CALSCALE:GREGORIAN
BEGIN:VEVENT
DTSTART:20260304T193000Z
DTEND:20260304T220000Z
X-MICROSOFT-CDO-ALLDAYEVENT:FALSE
SUMMARY:Banda Lonchera (Lunch Mob): Tax Readiness Edition
DESCRIPTION:Join the Solano Hispanic Chamber of Commerce for "A Taste of Collaboration and Support." Our Banda Lonchera event is designed to boost local restaurants while providing high-value networking and education for our members.\n\nThis month\, we are focusing on Tax Readiness. As tax season approaches\, it's vital for small business owners to stay organized. Our guest speaker will share key tips to help you avoid common mistakes and file your taxes with confidence. Come for the insights\, stay for the delicious food at Taqueria Hecho En Mexico!\n\n\n\n-SPA-\n\n\n\n \n\n nete a la C mara de Comercio Hispana de Solano para "Una Muestra de Colaboraci n y Apoyo". Nuestro evento Banda Lonchera est  dise ado para impulsar a los restaurantes locales mientras brindamos networking y educaci n de alto valor para nuestros miembros.\n\nEste mes\, nos enfocaremos en la Preparaci n de Impuestos. A medida que se acerca la temporada de impuestos\, es vital que los due os de peque os negocios se mantengan organizados. Compartiremos consejos clave para evitar errores comunes y declarar con confianza.  Ven por la informaci n y qu date por la deliciosa comida de Taqueria Hecho En Mexico!
X-ALT-DESC;FMTTYPE=text/html:<p data-path-to-node="42">Join the Solano Hispanic Chamber of Commerce for &quot\;A Taste of Collaboration and Support.&quot\; Our Banda Lonchera event is designed to boost local restaurants while providing high-value networking and education for our members.</p>\n\n<p data-path-to-node="43">This month\, we are focusing on <b data-index-in-node="31" data-path-to-node="43">Tax Readiness</b>. As tax season approaches\, it&rsquo\;s vital for small business owners to stay organized. Our guest speaker will share key tips to help you avoid common mistakes and file your taxes with confidence. Come for the insights\, stay for the delicious food at Taqueria Hecho En Mexico!<br />\n<br />\n-SPA-<br />\n<br />\n&nbsp\;</p>\n\n<p data-path-to-node="48">&Uacute\;nete a la C&aacute\;mara de Comercio Hispana de Solano para &quot\;Una Muestra de Colaboraci&oacute\;n y Apoyo&quot\;. Nuestro evento Banda Lonchera est&aacute\; dise&ntilde\;ado para impulsar a los restaurantes locales mientras brindamos networking y educaci&oacute\;n de alto valor para nuestros miembros.</p>\n\n<p data-path-to-node="49">Este mes\, nos enfocaremos en la <b data-index-in-node="32" data-path-to-node="49">Preparaci&oacute\;n de Impuestos</b>. A medida que se acerca la temporada de impuestos\, es vital que los due&ntilde\;os de peque&ntilde\;os negocios se mantengan organizados. Compartiremos consejos clave para evitar errores comunes y declarar con confianza. &iexcl\;Ven por la informaci&oacute\;n y qu&eacute\;date por la deliciosa comida de Taqueria Hecho En Mexico!</p>\n
LOCATION:Taqueria Hecho En Mexico 1040 E Monte Vista Ave\, Vacaville\, CA 95688
UID:e.3442.1371
SEQUENCE:3
DTSTAMP:20260422T083230Z
URL:https://business.solanohcc.com/events/details/banda-lonchera-lunch-mob-tax-readiness-edition-1371
END:VEVENT

END:VCALENDAR
